BEGIN:VCALENDAR
VERSION:2.0
PRODID:-//Utah Grand Chapter - ECPv6.15.20//NONSGML v1.0//EN
CALSCALE:GREGORIAN
METHOD:PUBLISH
X-WR-CALNAME:Utah Grand Chapter
X-ORIGINAL-URL:https://www.oesutah.org
X-WR-CALDESC:Events for Utah Grand Chapter
REFRESH-INTERVAL;VALUE=DURATION:PT1H
X-Robots-Tag:noindex
X-PUBLISHED-TTL:PT1H
BEGIN:VTIMEZONE
TZID:America/Denver
BEGIN:DAYLIGHT
TZOFFSETFROM:-0700
TZOFFSETTO:-0600
TZNAME:MDT
DTSTART:20250309T090000
END:DAYLIGHT
BEGIN:STANDARD
TZOFFSETFROM:-0600
TZOFFSETTO:-0700
TZNAME:MST
DTSTART:20251102T080000
END:STANDARD
BEGIN:DAYLIGHT
TZOFFSETFROM:-0700
TZOFFSETTO:-0600
TZNAME:MDT
DTSTART:20260308T090000
END:DAYLIGHT
BEGIN:STANDARD
TZOFFSETFROM:-0600
TZOFFSETTO:-0700
TZNAME:MST
DTSTART:20261101T080000
END:STANDARD
BEGIN:DAYLIGHT
TZOFFSETFROM:-0700
TZOFFSETTO:-0600
TZNAME:MDT
DTSTART:20270314T090000
END:DAYLIGHT
BEGIN:STANDARD
TZOFFSETFROM:-0600
TZOFFSETTO:-0700
TZNAME:MST
DTSTART:20271107T080000
END:STANDARD
END:VTIMEZONE
BEGIN:VEVENT
DTSTART;TZID=America/Denver:20260523T140000
DTEND;TZID=America/Denver:20260523T160000
DTSTAMP:20260421T080826
CREATED:20251130T213739Z
LAST-MODIFIED:20260402T183142Z
UID:690-1779544800-1779552000@www.oesutah.org
SUMMARY:Cedar Chapter #20 Grand Visitation
DESCRIPTION:
URL:https://www.oesutah.org/event/cedar-chapter-20-grand-visitation/
LOCATION:Cedar Masonic Temple
END:VEVENT
BEGIN:VEVENT
DTSTART;TZID=America/Denver:20260515T190000
DTEND;TZID=America/Denver:20260515T210000
DTSTAMP:20260421T080826
CREATED:20251130T213331Z
LAST-MODIFIED:20251130T213331Z
UID:686-1778871600-1778878800@www.oesutah.org
SUMMARY:Mt. Olympus Chapter #23 Grand Visitation
DESCRIPTION:
URL:https://www.oesutah.org/event/mt-olympus-chapter-23-grand-visitation/
LOCATION:Sandy
END:VEVENT
BEGIN:VEVENT
DTSTART;TZID=America/Denver:20260513T190000
DTEND;TZID=America/Denver:20260513T213000
DTSTAMP:20260421T080826
CREATED:20251130T213553Z
LAST-MODIFIED:20260125T185434Z
UID:688-1778698800-1778707800@www.oesutah.org
SUMMARY:Corinne Chapter # 11 Grand Visitation
DESCRIPTION:
URL:https://www.oesutah.org/event/corinne-chapter-11-grand-visitation/
LOCATION:Brigham Masonic Temple
END:VEVENT
BEGIN:VEVENT
DTSTART;VALUE=DATE:20260508
DTEND;VALUE=DATE:20260510
DTSTAMP:20260421T080826
CREATED:20251130T213109Z
LAST-MODIFIED:20260205T173153Z
UID:684-1778198400-1778371199@www.oesutah.org
SUMMARY:Four Corners in Farmington\, New Mexico
DESCRIPTION:
URL:https://www.oesutah.org/event/four-corners-in-farmington-new-mexico/
END:VEVENT
BEGIN:VEVENT
DTSTART;TZID=America/Denver:20260502T140000
DTEND;TZID=America/Denver:20260502T180000
DTSTAMP:20260421T080826
CREATED:20251130T212917Z
LAST-MODIFIED:20260404T210643Z
UID:682-1777730400-1777744800@www.oesutah.org
SUMMARY:Run for the Roses
DESCRIPTION:
URL:https://www.oesutah.org/event/run-for-the-roses-kentucky-derby-details-tba/
LOCATION:Price Masonic Temple
END:VEVENT
BEGIN:VEVENT
DTSTART;TZID=America/Denver:20260501T190000
DTEND;TZID=America/Denver:20260501T213000
DTSTAMP:20260421T080826
CREATED:20251130T210100Z
LAST-MODIFIED:20260125T185331Z
UID:666-1777662000-1777671000@www.oesutah.org
SUMMARY:Lynds Chapter #1 Grand Visitation
DESCRIPTION:
URL:https://www.oesutah.org/event/lynds-chapter-1-grand-visitation/
LOCATION:Salt Lake Masonic Temple
END:VEVENT
BEGIN:VEVENT
DTSTART;TZID=America/Denver:20260411T103000
DTEND;TZID=America/Denver:20260411T120000
DTSTAMP:20260421T080826
CREATED:20251130T212559Z
LAST-MODIFIED:20260225T204857Z
UID:680-1775903400-1775908800@www.oesutah.org
SUMMARY:Pinewood Derby - General Grand Chapter Historic Landmarks Fundraiser
DESCRIPTION:Pinewood Derby 2026
URL:https://www.oesutah.org/event/pinewood-derby-general-grand-chapter-historic-landmarks-fundraiser/
LOCATION:Salt Lake Masonic Temple
END:VEVENT
BEGIN:VEVENT
DTSTART;TZID=America/Denver:20260410T193000
DTEND;TZID=America/Denver:20260410T213000
DTSTAMP:20260421T080826
CREATED:20251130T212240Z
LAST-MODIFIED:20251130T212240Z
UID:678-1775849400-1775856600@www.oesutah.org
SUMMARY:Mountain Chapter #2 Grand Visitation
DESCRIPTION:
URL:https://www.oesutah.org/event/mountain-chapter-2-grand-visitation/
LOCATION:Bountiful Masonic Center
END:VEVENT
BEGIN:VEVENT
DTSTART;TZID=America/Denver:20260401T193000
DTEND;TZID=America/Denver:20260401T213000
DTSTAMP:20260421T080826
CREATED:20251130T212045Z
LAST-MODIFIED:20251130T212045Z
UID:676-1775071800-1775079000@www.oesutah.org
SUMMARY:Beth Arabah Chapter #24 Grand Visitation
DESCRIPTION:
URL:https://www.oesutah.org/event/beth-arabah-chapter-24-grand-visitation-2/
LOCATION:Clearfield Masonic Temple
END:VEVENT
BEGIN:VEVENT
DTSTART;VALUE=DATE:20260327
DTEND;VALUE=DATE:20260329
DTSTAMP:20260421T080827
CREATED:20251130T211106Z
LAST-MODIFIED:20260125T184727Z
UID:672-1774569600-1774742399@www.oesutah.org
SUMMARY:Quad State - Jackson Hole Wyoming
DESCRIPTION:2026 Quad State Registration
URL:https://www.oesutah.org/event/quad-state-jackson-hole-wyoming/
END:VEVENT
BEGIN:VEVENT
DTSTART;TZID=America/Denver:20260324T193000
DTEND;TZID=America/Denver:20260324T213000
DTSTAMP:20260421T080827
CREATED:20251130T210857Z
LAST-MODIFIED:20251130T210857Z
UID:670-1774380600-1774387800@www.oesutah.org
SUMMARY:Miriam Chapter Grand Visitation
DESCRIPTION:
URL:https://www.oesutah.org/event/miriam-chapter-grand-visitation/
LOCATION:Ogden Masonic Temple\, 1240 E 20th St.\, Ogden\, UT\, 84401
END:VEVENT
BEGIN:VEVENT
DTSTART;TZID=America/Denver:20260311T190000
DTEND;TZID=America/Denver:20260311T213000
DTSTAMP:20260421T080827
CREATED:20251130T205707Z
LAST-MODIFIED:20260125T185243Z
UID:664-1773255600-1773264600@www.oesutah.org
SUMMARY:Tooele Valley Chapter #25 Grand Visitation
DESCRIPTION:
URL:https://www.oesutah.org/event/tooele-valley-chapter-25-grand-visitation/
LOCATION:Tooele Masonic Temple
END:VEVENT
BEGIN:VEVENT
DTSTART;TZID=America/Denver:20260310T190000
DTEND;TZID=America/Denver:20260310T213000
DTSTAMP:20260421T080827
CREATED:20251130T210425Z
LAST-MODIFIED:20251130T210435Z
UID:668-1773169200-1773178200@www.oesutah.org
SUMMARY:Radiant Chapter #12 Grand Visitation
DESCRIPTION:
URL:https://www.oesutah.org/event/radiant-chapter-12-grand-visitation/
LOCATION:Salt Lake Masonic Temple
END:VEVENT
BEGIN:VEVENT
DTSTART;TZID=America/Denver:20260210T193000
DTEND;TZID=America/Denver:20260210T213000
DTSTAMP:20260421T080827
CREATED:20251130T205324Z
LAST-MODIFIED:20251130T205324Z
UID:662-1770751800-1770759000@www.oesutah.org
SUMMARY:Kick Off - Bethsaida Chapter @22 - Visitation of the WGM and WGP
DESCRIPTION:
URL:https://www.oesutah.org/event/kick-off-bethsaida-chapter-22-visitation-of-the-wgm-and-wgp/
LOCATION:Bountiful Masonic Center
END:VEVENT
END:VCALENDAR